BEGIN:VCALENDAR
VERSION:2.0
PRODID:-// - ECPv4.9.7//NONSGML v1.0//EN
CALSCALE:GREGORIAN
METHOD:PUBLISH
X-ORIGINAL-URL:https://vjaa.org.au
X-WR-CALDESC:Events for 
BEGIN:VTIMEZONE
TZID:"Europe/Paris"
BEGIN:DAYLIGHT
TZOFFSETFROM:+0100
TZOFFSETTO:+0200
TZNAME:CEST
DTSTART:20200329T010000
END:DAYLIGHT
BEGIN:STANDARD
TZOFFSETFROM:+0200
TZOFFSETTO:+0100
TZNAME:CET
DTSTART:20201025T010000
END:STANDARD
END:VTIMEZONE
BEGIN:VEVENT
DTSTART;TZID="Europe/Paris":20201206T083000
DTEND;TZID="Europe/Paris":20201206T160000
DTSTAMP:20200302T075320
CREATED:20190828T054153Z
LAST-MODIFIED:20191003T014916Z
UID:2606-1607243400-1607270400@vjaa.org.au
SUMMARY:December - Leongatha - 2020
DESCRIPTION:
URL:https://vjaa.org.au/event/december-leongatha-2020/
LOCATION:Leongatha Airport\, 105 Aerodrome Rd\, Leongatha South\, Victoria\, 3953\, Australia
END:VEVENT
END:VCALENDAR