BEGIN:VCALENDAR
VERSION:2.0
PRODID:-// - ECPv4.9.7//NONSGML v1.0//EN
CALSCALE:GREGORIAN
METHOD:PUBLISH
X-ORIGINAL-URL:https://vjaa.org.au
X-WR-CALDESC:Events for 
BEGIN:VTIMEZONE
TZID:"Europe/Paris"
BEGIN:DAYLIGHT
TZOFFSETFROM:+0100
TZOFFSETTO:+0200
TZNAME:CEST
DTSTART:20200329T010000
END:DAYLIGHT
BEGIN:STANDARD
TZOFFSETFROM:+0200
TZOFFSETTO:+0100
TZNAME:CET
DTSTART:20201025T010000
END:STANDARD
END:VTIMEZONE
BEGIN:VEVENT
DTSTART;TZID="Europe/Paris":20200613T083000
DTEND;TZID="Europe/Paris":20200614T153000
DTSTAMP:20200302T074523
CREATED:20190828T053850Z
LAST-MODIFIED:20191003T015004Z
UID:2596-1592037000-1592148600@vjaa.org.au
SUMMARY:June - Wangaratta 2 Day - 2020
DESCRIPTION:
URL:https://vjaa.org.au/event/june-wangaratta-2-day-2020/
LOCATION:Wangaratta Airport\, Brian Higgins Drive\, Wangaratta\, Victoria\, Australia
END:VEVENT
END:VCALENDAR